BEGIN:VCALENDAR
VERSION:2.0
PRODID:-//wp-events-plugin.com//7.2.3.1//EN
BEGIN:VEVENT
UID:50@philahanze.nl
DTSTART:20230119T200000Z
DTEND:20230119T220000Z
DTSTAMP:20230108T211945Z
URL:https://www.philahanze.nl/events/ledenbijeenkomst-filatelistenverenigi
 ng-de-liemers/
SUMMARY:Ledenbijeenkomst Filatelistenvereniging De Liemers
DESCRIPTION:Ledenbijeenkomst Filatelistenvereniging De Liemers\n\nNieuwjaar
 sborrel\, winkeltje
CATEGORIES:Bijeenkomsten
LOCATION:Ons Huis\, Dokter Honigstraat 3\, Zevenaar\, Gelderland\, Nederlan
 d
X-APPLE-STRUCTURED-LOCATION;VALUE=URI;X-ADDRESS=Dokter Honigstraat 3\, Zeve
 naar\, Gelderland\, Nederland;X-APPLE-RADIUS=100;X-TITLE=Ons Huis:geo:0,0
END:VEVENT
END:VCALENDAR