BEGIN:VCALENDAR
VERSION:2.0
PRODID:-//wp-events-plugin.com//7.2.3.1//EN
BEGIN:VEVENT
UID:175@philahanze.nl
DTSTART:20240919T193000Z
DTEND:20240919T220000Z
DTSTAMP:20231214T133204Z
URL:https://www.philahanze.nl/events/ledenbijeenkomst-filatelistenverenigi
 ng-de-liemers-15/
SUMMARY:Ledenbijeenkomst Filatelistenvereniging De Liemers
DESCRIPTION:Ledenbijeenkomst Filatelistenvereniging De Liemers\n\nLezing\, 
 kleine veiling\, stockboeken en dozen.\n\nInloop 19.30 uur\, aanvang 20.00
  uur
CATEGORIES:Bijeenkomsten,Lezing,Veilingen
LOCATION:Ons Huis\, Dokter Honigstraat 3\, Zevenaar\, Gelderland\, Nederlan
 d
X-APPLE-STRUCTURED-LOCATION;VALUE=URI;X-ADDRESS=Dokter Honigstraat 3\, Zeve
 naar\, Gelderland\, Nederland;X-APPLE-RADIUS=100;X-TITLE=Ons Huis:geo:0,0
END:VEVENT
END:VCALENDAR