BEGIN:VCALENDAR
VERSION:2.0
PRODID:-//wp-events-plugin.com//7.2.3.1//EN
BEGIN:VEVENT
UID:47@philahanze.nl
DTSTART:20230102T194500Z
DTEND:20230102T220000Z
DTSTAMP:20230108T210836Z
URL:https://www.philahanze.nl/events/leden-nieuwjaarsbijeenkomst-fv-de-vie
 rstroom/
SUMMARY:Leden-/Nieuwjaarsbijeenkomst FV De Vierstroom
DESCRIPTION:Leden-/Nieuwjaarsbijeenkomst FV De Vierstroom\n\nVerloting\, hu
 ldiging jubilarissen
CATEGORIES:Bijeenkomsten
LOCATION:De Gaanderij\, Driemondplein 1\, Arnhem\, Gelderland\, 6843 AN\, N
 ederland
X-APPLE-STRUCTURED-LOCATION;VALUE=URI;X-ADDRESS=Driemondplein 1\, Arnhem\, 
 Gelderland\, 6843 AN\, Nederland;X-APPLE-RADIUS=100;X-TITLE=De Gaanderij:g
 eo:0,0
END:VEVENT
END:VCALENDAR