BEGIN:VCALENDAR
VERSION:2.0
PRODID:-//wp-events-plugin.com//7.2.3.1//EN
BEGIN:VEVENT
UID:112@philahanze.nl
DTSTART:20230327T190000Z
DTEND:20230327T220000Z
DTSTAMP:20230214T215003Z
URL:https://www.philahanze.nl/events/bijeenkomst-noviopost/
SUMMARY:Bijeenkomst Noviopost
DESCRIPTION:Bijeenkomst Noviopost\n\nMeer informatie: secretaris@noviopost.
 nl
CATEGORIES:Bijeenkomsten
LOCATION:Sporthal OC Huisman\, Dennenstraat 25\, Nijmegen\, Gelderland\, Ne
 derland
X-APPLE-STRUCTURED-LOCATION;VALUE=URI;X-ADDRESS=Dennenstraat 25\, Nijmegen\
 , Gelderland\, Nederland;X-APPLE-RADIUS=100;X-TITLE=Sporthal OC Huisman:ge
 o:0,0
END:VEVENT
END:VCALENDAR