BEGIN:VCALENDAR
VERSION:2.0
PRODID:-//wp-events-plugin.com//7.2.3.1//EN
BEGIN:VEVENT
UID:119@philahanze.nl
DTSTART;TZID=Europe/Amsterdam:20230417T100000
DTEND;TZID=Europe/Amsterdam:20230417T120000
DTSTAMP:20230306T214838Z
URL:https://www.philahanze.nl/events/bijeenkomst-filatelistenvereniging-zu
 tphen-3/
SUMMARY:Bijeenkomst Filatelistenvereniging Zutphen
DESCRIPTION:Bijeenkomst Filatelistenvereniging Zutphen
CATEGORIES:Bijeenkomsten
LOCATION:Kegelcentrum Hanzehal\, Fanny Blankers-Koenweg 2\, Zutphen\, Gelde
 rland\, 7203 AA\, Nederland
X-APPLE-STRUCTURED-LOCATION;VALUE=URI;X-ADDRESS=Fanny Blankers-Koenweg 2\, 
 Zutphen\, Gelderland\, 7203 AA\, Nederland;X-APPLE-RADIUS=100;X-TITLE=Kege
 lcentrum Hanzehal:geo:0,0
END:VEVENT
BEGIN:VTIMEZONE
TZID:Europe/Amsterdam
X-LIC-LOCATION:Europe/Amsterdam
BEGIN:DAYLIGHT
DTSTART:20230326T030000
TZOFFSETFROM:+0100
TZOFFSETTO:+0200
TZNAME:CEST
END:DAYLIGHT
END:VTIMEZONE
END:VCALENDAR